BEGIN:VCALENDAR
VERSION:2.0
PRODID:-//Cambridge Russian School - ECPv4.9.14.1//NONSGML v1.0//EN
CALSCALE:GREGORIAN
METHOD:PUBLISH
X-WR-CALNAME:Cambridge Russian School
X-ORIGINAL-URL:https://camrusschool.org.uk
X-WR-CALDESC:Events for Cambridge Russian School
BEGIN:VTIMEZONE
TZID:UTC
BEGIN:STANDARD
TZOFFSETFROM:+0000
TZOFFSETTO:+0000
TZNAME:UTC
DTSTART:20260101T000000
END:STANDARD
END:VTIMEZONE
BEGIN:VEVENT
DTSTART;VALUE=DATE:20260509
DTEND;VALUE=DATE:20260510
DTSTAMP:20260424T131832
CREATED:20260416T191412Z
LAST-MODIFIED:20260416T192801Z
UID:9599-1778284800-1778371199@camrusschool.org.uk
SUMMARY:🎉 School Birthday
DESCRIPTION: School Birthday — we are celebrating 27 years! \n
URL:https://camrusschool.org.uk/event/school-birthday/
LOCATION:Cambridge Russian School
CATEGORIES:holiday
END:VEVENT
BEGIN:VEVENT
DTSTART;VALUE=DATE:20260530
DTEND;VALUE=DATE:20260531
DTSTAMP:20260424T131832
CREATED:20260416T192227Z
LAST-MODIFIED:20260416T192237Z
UID:9610-1780099200-1780185599@camrusschool.org.uk
SUMMARY:Half-term holiday (school is closed)
DESCRIPTION:
URL:https://camrusschool.org.uk/event/half-term-holiday-school-is-closed/
LOCATION:Cambridge Russian School
CATEGORIES:half-term
END:VEVENT
BEGIN:VEVENT
DTSTART;VALUE=DATE:20260613
DTEND;VALUE=DATE:20260614
DTSTAMP:20260424T131832
CREATED:20260416T191930Z
LAST-MODIFIED:20260416T192100Z
UID:9604-1781308800-1781395199@camrusschool.org.uk
SUMMARY:Open day
DESCRIPTION:On this day\, our students and guests are welcome to attend open lessons and get to know different classes and teachers.\n\nPlanned activities for the day include:\n\nGuests of the school can visit open lessons.\nParents are also welcome to attend classes — please notify the school administration in advance at admissions@camrusschool.org.uk.\n\n
URL:https://camrusschool.org.uk/event/open-day/
LOCATION:Cambridge Russian School
END:VEVENT
BEGIN:VEVENT
DTSTART;VALUE=DATE:20260704
DTEND;VALUE=DATE:20260705
DTSTAMP:20260424T131832
CREATED:20260416T192338Z
LAST-MODIFIED:20260416T192351Z
UID:9614-1783123200-1783209599@camrusschool.org.uk
SUMMARY:Last day of term — Sports Day and BBQ
DESCRIPTION:
URL:https://camrusschool.org.uk/event/last-day-of-term-sports-day-and-bbq/
LOCATION:Cambridge Russian School
CATEGORIES:holiday
END:VEVENT
BEGIN:VEVENT
DTSTART;VALUE=DATE:20260814
DTEND;VALUE=DATE:20260829
DTSTAMP:20260424T131832
CREATED:20251016T175107Z
LAST-MODIFIED:20251017T215238Z
UID:9129-1786665600-1787961599@camrusschool.org.uk
SUMMARY:☀️ Summer Family Camp – Long House\, Sussex
DESCRIPTION:Dear Parents\,\nWe are delighted to invite you and your families to join the Cambridge Russian School’s family Summer camp!\nIt’s a wonderful opportunity to spend time in nature\, connect with friends\, and enjoy creativity\, learning\, and the Russian language in a warm\, family atmosphere.\n  \n Summer Family Camp – Long House\, Sussex\n 14–28 August 2025 (choose from two sessions: 14–21 or 21–28 August)\n A spacious house with a swimming pool\, gardens\, and nearby woodland — perfect for an active family break.\n Programme: quests\, creative workshops\, sports\, family projects\, and evenings by the fire.\n £900 per family (all-inclusive)\n More about the venue:\nThe Long House – официальный сайт \n  \n Camp offer:\n\nPrivate family rooms\nDelicious home-style meals\nA full programme for children and adults\nA warm\, friendly and inspiring atmosphere\n\nPlaces are limited\, and each family will have their own room.\nIf you’d like to join us or learn more\, please contact Elena Carter at  head@camrusschool.org.uk\n You can also view photos from our previous family camp at Long House (May 2025):\nhttps://photos.app.goo.gl/9P2j55yhicUAvTCf6\n  \n
URL:https://camrusschool.org.uk/event/%e2%98%80%ef%b8%8f-summer-family-camp-long-house-sussex/
LOCATION:Long House\, Sussex\, Long House\, Long House Lane\, Cowfold\, West Sussex\, RH13 8AR\, United Kingdom
CATEGORIES:camp
END:VEVENT
END:VCALENDAR